BEGIN:VCALENDAR
VERSION:2.0
PRODID:-//Office for Social Justice - ECPv5.0.2.1//NONSGML v1.0//EN
CALSCALE:GREGORIAN
METHOD:PUBLISH
X-WR-CALNAME:Office for Social Justice
X-ORIGINAL-URL:https://socialjustice.catholic.org.au
X-WR-CALDESC:Events for Office for Social Justice
BEGIN:VTIMEZONE
TZID:Australia/Sydney
BEGIN:STANDARD
TZOFFSETFROM:+1100
TZOFFSETTO:+1000
TZNAME:AEST
DTSTART:20200404T160000
END:STANDARD
BEGIN:DAYLIGHT
TZOFFSETFROM:+1000
TZOFFSETTO:+1100
TZNAME:AEDT
DTSTART:20201003T160000
END:DAYLIGHT
END:VTIMEZONE
BEGIN:VEVENT
DTSTART;TZID=Australia/Sydney:20200128T000000
DTEND;TZID=Australia/Sydney:20200128T235959
DTSTAMP:20200301T230401
CREATED:20191202T005853Z
LAST-MODIFIED:20191202T005855Z
UID:636-1580169600-1580255999@socialjustice.catholic.org.au
SUMMARY:Data Privacy Day
DESCRIPTION:\n\n\nData Privacy Day began in Europe and is also celebrated in the USA. It marks the anniversary of the signing in 1981 of the Council of Europe’s Convention for the Protection of Individuals with Regard to Automatic Processing of Personal Data. Some ways of celebrating could include: • Holding or attending an event or seminar about issues of online security\, privacy\, and data protection. • Conducting a data protection workshop for your parish\, school or workplace. • Shredding important paperwork containing personal information that you no longer need. • Educating young people to be careful about giving out their personal information. \n\n\n\nFind out more here. \n\n\n\n\n\n\n\n\n\n\n\n\n
URL:https://socialjustice.catholic.org.au/event/data-privacy-day/
CATEGORIES:Overseas / regional
ATTACH;FMTTYPE=image/jpeg:https://socialjustice.catholic.org.au/wp-content/uploads/2019/12/data-privacy.jpg
END:VEVENT
END:VCALENDAR