BEGIN:VCALENDAR
VERSION:2.0
PRODID:-//Office for Social Justice - ECPv5.0.2.1//NONSGML v1.0//EN
CALSCALE:GREGORIAN
METHOD:PUBLISH
X-WR-CALNAME:Office for Social Justice
X-ORIGINAL-URL:https://socialjustice.catholic.org.au
X-WR-CALDESC:Events for Office for Social Justice
BEGIN:VTIMEZONE
TZID:Australia/Sydney
BEGIN:STANDARD
TZOFFSETFROM:+1100
TZOFFSETTO:+1000
TZNAME:AEST
DTSTART:20200404T160000
END:STANDARD
BEGIN:DAYLIGHT
TZOFFSETFROM:+1000
TZOFFSETTO:+1100
TZNAME:AEDT
DTSTART:20201003T160000
END:DAYLIGHT
END:VTIMEZONE
BEGIN:VEVENT
DTSTART;TZID=Australia/Sydney:20200202T000000
DTEND;TZID=Australia/Sydney:20200202T235959
DTSTAMP:20200301T230958
CREATED:20191202T011037Z
LAST-MODIFIED:20191202T011039Z
UID:643-1580601600-1580687999@socialjustice.catholic.org.au
SUMMARY:Presentation of Jesus
DESCRIPTION:\n\n\n \n\n\n\n\n\n\n\n\n\n\n\n\n
URL:https://socialjustice.catholic.org.au/event/presentation-of-jesus/
CATEGORIES:Liturgy & Church
END:VEVENT
END:VCALENDAR