BEGIN:VCALENDAR
VERSION:2.0
PRODID:-//Office for Social Justice - ECPv5.0.2.1//NONSGML v1.0//EN
CALSCALE:GREGORIAN
METHOD:PUBLISH
X-WR-CALNAME:Office for Social Justice
X-ORIGINAL-URL:https://socialjustice.catholic.org.au
X-WR-CALDESC:Events for Office for Social Justice
BEGIN:VTIMEZONE
TZID:Australia/Sydney
BEGIN:STANDARD
TZOFFSETFROM:+1100
TZOFFSETTO:+1000
TZNAME:AEST
DTSTART:20200404T160000
END:STANDARD
BEGIN:DAYLIGHT
TZOFFSETFROM:+1000
TZOFFSETTO:+1100
TZNAME:AEDT
DTSTART:20201003T160000
END:DAYLIGHT
END:VTIMEZONE
BEGIN:VEVENT
DTSTART;TZID=Australia/Sydney:20200127T000000
DTEND;TZID=Australia/Sydney:20200127T235959
DTSTAMP:20200301T225910
CREATED:20191202T001716Z
LAST-MODIFIED:20191202T001718Z
UID:632-1580083200-1580169599@socialjustice.catholic.org.au
SUMMARY:World Leprosy Day
DESCRIPTION:\n\n\n \n\n\n\n\n\n\n\n\n\n\n\n\n
URL:https://socialjustice.catholic.org.au/event/world-leprosy-day/2020-01-27/
CATEGORIES:UN International
END:VEVENT
END:VCALENDAR