BEGIN:VCALENDAR
VERSION:2.0
PRODID:-//Office For Justice, Ecology and Peace - ECPv6.2.9//NONSGML v1.0//EN
CALSCALE:GREGORIAN
METHOD:PUBLISH
X-WR-CALNAME:Office For Justice, Ecology and Peace
X-ORIGINAL-URL:https://socialjustice.catholic.org.au
X-WR-CALDESC:Events for Office For Justice, Ecology and Peace
REFRESH-INTERVAL;VALUE=DURATION:PT1H
X-Robots-Tag:noindex
X-PUBLISHED-TTL:PT1H
BEGIN:VTIMEZONE
TZID:Australia/Sydney
BEGIN:STANDARD
TZOFFSETFROM:+1100
TZOFFSETTO:+1000
TZNAME:AEST
DTSTART:20210403T160000
END:STANDARD
BEGIN:DAYLIGHT
TZOFFSETFROM:+1000
TZOFFSETTO:+1100
TZNAME:AEDT
DTSTART:20211002T160000
END:DAYLIGHT
END:VTIMEZONE
BEGIN:VEVENT
DTSTART;TZID=Australia/Sydney:20210501T000000
DTEND;TZID=Australia/Sydney:20210501T235959
DTSTAMP:20260423T123041
CREATED:20200129T000825Z
LAST-MODIFIED:20200129T000828Z
UID:1313-1619827200-1619913599@socialjustice.catholic.org.au
SUMMARY:International Workers Day
DESCRIPTION:
URL:https://socialjustice.catholic.org.au/event/international-workers-day-2021-05-01/
CATEGORIES:UN International
END:VEVENT
BEGIN:VEVENT
DTSTART;TZID=Australia/Sydney:20210503T000000
DTEND;TZID=Australia/Sydney:20210503T235959
DTSTAMP:20260423T123041
CREATED:20200129T002424Z
LAST-MODIFIED:20200129T002427Z
UID:1323-1620000000-1620086399@socialjustice.catholic.org.au
SUMMARY:World Press Freedom Day
DESCRIPTION:
URL:https://socialjustice.catholic.org.au/event/world-press-freedom-day-2021-05-03/
CATEGORIES:UN International
END:VEVENT
BEGIN:VEVENT
DTSTART;TZID=Australia/Sydney:20210506T000000
DTEND;TZID=Australia/Sydney:20210506T235959
DTSTAMP:20260423T123041
CREATED:20200228T050855Z
LAST-MODIFIED:20200228T051107Z
UID:1477-1620259200-1620345599@socialjustice.catholic.org.au
SUMMARY:World Password Day
DESCRIPTION:In his 2005 book Perfect Passwords\, security researcher Mark Burnett encourages people to have a ‘password day’ when thy would update important passwords. Intel Security took up the idea in May 2013 and promoted World Password Day. The day is intended to create awareness of the need for good password security and it is observed on the first Thursday of May. \n\n\n\nHere are some activities for marking World Password Day: \n\n\n\nchange your passwords – tips for creating strong passwords can be found herelayer up and implement multi-factor authentication for your important accounts – learn about layered security herelearn about using password managersmake sure your family and friends understand what makes a strong password.
URL:https://socialjustice.catholic.org.au/event/world-password-day-2021-05-06/
CATEGORIES:UN International
END:VEVENT
BEGIN:VEVENT
DTSTART;TZID=Australia/Sydney:20210508T000000
DTEND;TZID=Australia/Sydney:20210508T235959
DTSTAMP:20260423T123041
CREATED:20200228T051218Z
LAST-MODIFIED:20200228T051221Z
UID:1481-1620432000-1620518399@socialjustice.catholic.org.au
SUMMARY:World Red Cross and Red Crescent Day
DESCRIPTION:
URL:https://socialjustice.catholic.org.au/event/world-red-cross-and-red-crescent-day-2021-05-08/
CATEGORIES:UN International
END:VEVENT
BEGIN:VEVENT
DTSTART;TZID=Australia/Sydney:20210508T000000
DTEND;TZID=Australia/Sydney:20210508T235959
DTSTAMP:20260423T123041
CREATED:20200228T051608Z
LAST-MODIFIED:20210417T060014Z
UID:1493-1620432000-1620518399@socialjustice.catholic.org.au
SUMMARY:World Fair Trade Day
DESCRIPTION:World Fair Trade Day is celebrated on the 8th of May\, 2021 and the World Fair Trade Organisation is calling on us to ‘Build Back Fairer’. This is a day where we can reflect on our purchasing and procurement policies and see what are the practical ways we can support ethical and fair trade practices. Catholic organisations such as Ethica and ACRATH provide practical means for us to make trade fair. For more information on the day and the Build Back Fairer statement click here. \n\n\n\nOrganised by the Fair Trade Advocacy Office and World Fair Trade Organisation\, World Fair Trade Day invites us to “Build Back Fairer” \n\n\n\n“We’ve known for a long time that something is wrong with how trade works. Our trade structures and practices are designed in a way that benefits the most powerful…who hold the power in supply chains and set the terms of international trade. Meanwhile small farmers\, artisans and workers have been left vulnerable to exploitation and struggle to earn living incomes and wages.” \n\n\n\nCOVID-19 exasperated these differences\, and the World Fair Trade Organisation is calling for the world to transform and ‘Build Back Fairer’ to deal with the underlying exploitation of people and climate at the heart of destruction of nature\, deforestation\, climate and health crises. \n\n\n\n‘Build Back Fairer’ is the theme of World Trade Fair Day and is taken from the Build Back Fairer Statement released in Sept 2020. This a day where we can reflect on our purchasing and procurement power and plan ways we can support ethical and fair trade practices. \n\n\n\nOn World Trade Fair Day\, be sure to buy fair trade products available at supermarkets\, looking for the fair trade logo or online for example\, at Ethica\, the Fair Trade social enterprise of Mary MacKillop Today. \n\n\n\nFor more information on World Trade Fair Day and the Build Back Fairer Statement go here.
URL:https://socialjustice.catholic.org.au/event/world-fair-trade-day-2021-05-09/
CATEGORIES:UN International
ATTACH;FMTTYPE=image/png:https://socialjustice.catholic.org.au/wp-content/uploads/2020/02/OSJ-SJC-202104-world-fair-trade-feature.png
END:VEVENT
BEGIN:VEVENT
DTSTART;TZID=Australia/Sydney:20210515T000000
DTEND;TZID=Australia/Sydney:20210515T235959
DTSTAMP:20260423T123041
CREATED:20200228T051947Z
LAST-MODIFIED:20200429T025747Z
UID:1503-1621036800-1621123199@socialjustice.catholic.org.au
SUMMARY:International Day of Families
DESCRIPTION:The following reflection is from Andy Hamilton SJ. Andy is an Australian Jesuit\, Consulting Editor of Eureka Street\, Editorial Consultant to Australian Catholics\, and a member of the communications team at Jesuit Social Services. \n\n\n\nThe coronavirus has put enormous pressures on all of us as persons\, and on the groups and institutions to which we belong. It has been an affliction. The response to the measures taken to address it has been mixed. Sometimes it has been narrow and divisive\, but more generally it has been extraordinarily good-willed\, generous and patient. It has opened out to a far broader and balanced conversation about other areas of life that have been affected by the virus. One of these is the family. World Family Day invites us to reflect inclusively and with broad sympathy on the family.  \n\n\n\nReflection on the family is often conducted along narrow lines in which we are tempted to focus on one set of relationships and so neglect other relationships that are equally important for healthy family life. The family\, for example\, may be seen as a stable relationship\, recognised as a marriage by state and church\, between mother and father and the children they have borne together. Many people will rightly celebrate this as the Catholic ideal of a good marriage. \n\n\n\nOthers will appeal to dysfunctional families in dismissing this as a primitive and coercive form of association that inhibits individual growth. They might emphasise the freedom of the individuals involved as central to the family. Discussions about the family will then turn to which forms of relationship justify the name of family\, and which are better. These are important questions\, but they are not the questions asked first by people living with the daily challenges and opportunities of family life. \n\n\n\nThe consequences of coronavirus have made us attentive to the complexity and breadth of the relationships involved in families which struggle under its burdens. The economic and social changes brought by the virus have shown\, for example\, the consequences for the family of relationships involved in losing casual work\, in working from home\, in the expectation that all adult members of a family will work\, in schooling\, in recreation\, staying in touch with extended family and friends\, and educational institutions\, of relationships with sport\, television and social media\, and in a house design that offers both common and personal space. \n\n\n\n After coronavirus the way in which these relationships have been shaped can no longer be taken for granted. We shall have experience of the disadvantages and advantages of other shapes we may not have considered.  The merits of working from home and of home schooling will be considered as real possibilities of which we have experience and not simply as abstract ideas.    \n\n\n\nWe shall see more clearly\, too\, how tightly the internal relationships within our families are connected to broader relationships with society. We shall have noticed how pressures of living together in a narrow space can be reflected in family violence and in mental illness. We shall find it difficult to reflect on the inner life of families without setting them against the social conditions in which they live. We shall know that if we wish to address antisocial behaviour we shall have to take account of the social problems that give birth to it. \n\n\n\nAt Jesuit Social Services we work with young people from families which have been disadvantaged. This has often reflected lacks in the way our society cares for families. \n\n\n\nWorld family day is a time to celebrate the generosity and goodness displayed in families\, and the resilience that finds life in the most unfavourable circumstances. It is also a day to ask how as a society we can best to accompany families as they prepare children for a full and generous life.   
URL:https://socialjustice.catholic.org.au/event/international-day-of-families-2021-05-15/
CATEGORIES:UN International
END:VEVENT
BEGIN:VEVENT
DTSTART;TZID=Australia/Sydney:20210516T000000
DTEND;TZID=Australia/Sydney:20210516T235959
DTSTAMP:20260423T123041
CREATED:20200228T053100Z
LAST-MODIFIED:20200228T053103Z
UID:1519-1621123200-1621209599@socialjustice.catholic.org.au
SUMMARY:International Day of Living Together in Peace
DESCRIPTION:
URL:https://socialjustice.catholic.org.au/event/international-day-of-living-together-in-peace-2021-05-16/
CATEGORIES:UN International
END:VEVENT
BEGIN:VEVENT
DTSTART;TZID=Australia/Sydney:20210517T000000
DTEND;TZID=Australia/Sydney:20210517T235959
DTSTAMP:20260423T123041
CREATED:20200228T053304Z
LAST-MODIFIED:20200228T053308Z
UID:1525-1621209600-1621295999@socialjustice.catholic.org.au
SUMMARY:World telecommunications and Information Society Day
DESCRIPTION:
URL:https://socialjustice.catholic.org.au/event/world-telecommunications-and-information-society-day-2021-05-17/
CATEGORIES:UN International
END:VEVENT
BEGIN:VEVENT
DTSTART;TZID=Australia/Sydney:20210521T000000
DTEND;TZID=Australia/Sydney:20210521T235959
DTSTAMP:20260423T123041
CREATED:20200228T053634Z
LAST-MODIFIED:20200429T025909Z
UID:1537-1621555200-1621641599@socialjustice.catholic.org.au
SUMMARY:World Day for Cultural Diversity for Dialogue and Development
DESCRIPTION:
URL:https://socialjustice.catholic.org.au/event/world-day-for-cultural-diversity-for-dialogue-and-development-2021-05-21/
CATEGORIES:UN International
END:VEVENT
BEGIN:VEVENT
DTSTART;TZID=Australia/Sydney:20210522T000000
DTEND;TZID=Australia/Sydney:20210522T235959
DTSTAMP:20260423T123041
CREATED:20200228T053832Z
LAST-MODIFIED:20200228T053836Z
UID:1541-1621641600-1621727999@socialjustice.catholic.org.au
SUMMARY:International Day for Biological Diversity
DESCRIPTION:
URL:https://socialjustice.catholic.org.au/event/international-day-for-biological-diversity-2021-05-22/
CATEGORIES:UN International
END:VEVENT
BEGIN:VEVENT
DTSTART;TZID=Australia/Sydney:20210523T000000
DTEND;TZID=Australia/Sydney:20210523T235959
DTSTAMP:20260423T123041
CREATED:20200306T053729Z
LAST-MODIFIED:20200306T053734Z
UID:1562-1621728000-1621814399@socialjustice.catholic.org.au
SUMMARY:International Day to End Obstetric Fistula
DESCRIPTION:
URL:https://socialjustice.catholic.org.au/event/international-day-to-end-obstetric-fistula-2021-05-23/
CATEGORIES:UN International
END:VEVENT
BEGIN:VEVENT
DTSTART;TZID=Australia/Sydney:20210529T000000
DTEND;TZID=Australia/Sydney:20210529T235959
DTSTAMP:20260423T123041
CREATED:20200306T060139Z
LAST-MODIFIED:20200306T060145Z
UID:1602-1622246400-1622332799@socialjustice.catholic.org.au
SUMMARY:International Day of UN Peacekeepers
DESCRIPTION:
URL:https://socialjustice.catholic.org.au/event/international-day-of-un-peacekeepers-2021-05-29/
CATEGORIES:UN International
END:VEVENT
END:VCALENDAR