BEGIN:VCALENDAR
VERSION:2.0
PRODID:-//Office For Justice, Ecology and Peace - ECPv6.2.9//NONSGML v1.0//EN
CALSCALE:GREGORIAN
METHOD:PUBLISH
X-ORIGINAL-URL:https://socialjustice.catholic.org.au
X-WR-CALDESC:Events for Office For Justice, Ecology and Peace
REFRESH-INTERVAL;VALUE=DURATION:PT1H
X-Robots-Tag:noindex
X-PUBLISHED-TTL:PT1H
BEGIN:VTIMEZONE
TZID:Australia/Sydney
BEGIN:STANDARD
TZOFFSETFROM:+1100
TZOFFSETTO:+1000
TZNAME:AEST
DTSTART:20210403T160000
END:STANDARD
BEGIN:DAYLIGHT
TZOFFSETFROM:+1000
TZOFFSETTO:+1100
TZNAME:AEDT
DTSTART:20211002T160000
END:DAYLIGHT
END:VTIMEZONE
BEGIN:VEVENT
DTSTART;TZID=Australia/Sydney:20210428T000000
DTEND;TZID=Australia/Sydney:20210428T235959
DTSTAMP:20260423T094602
CREATED:20200121T234305Z
LAST-MODIFIED:20200129T234240Z
UID:1269-1619568000-1619654399@socialjustice.catholic.org.au
SUMMARY:World Day for Health and Safety at Work
DESCRIPTION:The International Labour Organisation (ILO) began to celebrate this day in 2003 however the trade union movement internationally has marked this day as the  International Commemoration Day for Dead and Injured Workers  since 1996.  This celebration is an integral part of the Global Strategy on Occupational Safety and Health of the ILO. \n\n\n\n As part of the 2020 World Day for safety and health at work campaign\, the ILO will produce a global report\, highlighting how a comprehensive OSH [occupational safety and health] framework at both national and workplace level could address violence and harassment in the world of work.  This includes for example incorporating provisions related to violence and harassment into OSH laws\, regulations and collective agreements and developing specific standards\, code of practices and guidelines to support the implementation of programmes and preventive measures in the workplaces. At the workplace level\, sound OSH management systems can include the assessment and control of psychosocial risks including the interplay with violence and harassment.   ILO\, World Day for Safety and Health at Work 2020 – Violence and Harassment in the World of Work
URL:https://socialjustice.catholic.org.au/event/world-day-for-health-and-safety-at-work-2021-04-28/
CATEGORIES:UN International
END:VEVENT
END:VCALENDAR